BEGIN:VCALENDAR
VERSION:2.0
PRODID:-//Stratis iCal API//FR
CALSCALE:GREGORIAN
X-WR-CALNAME:Publication de la liste officielle des concurrents culturels des Xes Jeux de la Francophonie
BEGIN:VEVENT
UID:event-380
SUMMARY:Publication de la liste officielle des concurrents culturels des Xes Jeux de la Francophonie
DESCRIPTION:Le 15 juillet 2026  le CIJF publiera la liste officielle des concurrents sélectionnés pour les disciplines culturelles des Xes Jeux de la Francophonie à Erevan en 2027.
DTSTAMP:20260421T220112Z
DTSTART:20260714T220000Z
DTEND:20260714T220000Z
STATUS:CONFIRMED
SEQUENCE:11
BEGIN:VALARM
TRIGGER:-PT30M
DESCRIPTION:Publication de la liste officielle des concurrents culturels des Xes Jeux de la Francophonie
ACTION:DISPLAY
END:VALARM
END:VEVENT
END:VCALENDAR