BEGIN:VCALENDAR
VERSION:2.0
PRODID:-//Stratis iCal API//FR
CALSCALE:GREGORIAN
X-WR-CALNAME:Xes Jeux de la Francophonie à Erevan en 2027 
BEGIN:VEVENT
UID:event-13
SUMMARY:Xes Jeux de la Francophonie à Erevan en 2027 
DESCRIPTION:Du 23 juillet au 1er août 2027  la Francophonie s'est donné rendez-vous à Erevan  en Arménie  pour célébrer la jeunesse  le talent et la diversité du monde francophone. 
DTSTAMP:20220620T082043Z
DTSTART:20270723T160000Z
DTEND:20270801T170000Z
STATUS:CONFIRMED
SEQUENCE:37
BEGIN:VALARM
TRIGGER:-PT30M
DESCRIPTION:Xes Jeux de la Francophonie à Erevan en 2027 
ACTION:DISPLAY
END:VALARM
END:VEVENT
END:VCALENDAR